BEGIN:VCALENDAR
VERSION:2.0
PRODID:-//The Marques Amusement Company - ECPv6.15.20//NONSGML v1.0//EN
CALSCALE:GREGORIAN
METHOD:PUBLISH
X-WR-CALNAME:The Marques Amusement Company
X-ORIGINAL-URL:https://marquesamusement.com
X-WR-CALDESC:Events for The Marques Amusement Company
REFRESH-INTERVAL;VALUE=DURATION:PT1H
X-Robots-Tag:noindex
X-PUBLISHED-TTL:PT1H
BEGIN:VTIMEZONE
TZID:America/New_York
BEGIN:DAYLIGHT
TZOFFSETFROM:-0500
TZOFFSETTO:-0400
TZNAME:EDT
DTSTART:20250309T070000
END:DAYLIGHT
BEGIN:STANDARD
TZOFFSETFROM:-0400
TZOFFSETTO:-0500
TZNAME:EST
DTSTART:20251102T060000
END:STANDARD
BEGIN:DAYLIGHT
TZOFFSETFROM:-0500
TZOFFSETTO:-0400
TZNAME:EDT
DTSTART:20260308T070000
END:DAYLIGHT
BEGIN:STANDARD
TZOFFSETFROM:-0400
TZOFFSETTO:-0500
TZNAME:EST
DTSTART:20261101T060000
END:STANDARD
BEGIN:DAYLIGHT
TZOFFSETFROM:-0500
TZOFFSETTO:-0400
TZNAME:EDT
DTSTART:20270314T070000
END:DAYLIGHT
BEGIN:STANDARD
TZOFFSETFROM:-0400
TZOFFSETTO:-0500
TZNAME:EST
DTSTART:20271107T060000
END:STANDARD
END:VTIMEZONE
BEGIN:VEVENT
DTSTART;TZID=America/New_York:20260725T110000
DTEND;TZID=America/New_York:20260725T210000
DTSTAMP:20260425T112540
CREATED:20260422T214931Z
LAST-MODIFIED:20260422T220846Z
UID:50943-1784977200-1785013200@marquesamusement.com
SUMMARY:Uptown Market Atlanta - July 25\, 2026
DESCRIPTION:What You’ll Experience Each Week 🎡 \n\n\nEvery event brings a fresh experience to The Greatest Party on Earth. While the energy stays the same\, the lineup of inflatables and attractions will rotate throughout the season—so there’s always something new to enjoy.\n \n\n\nGuests can expect a variety of high-quality inflatables\, from bounce houses and combo units to slides and obstacle courses\, all set up to create a fun\, safe\, and exciting environment for families and kids of all ages.\n \n\n\nOur concessions tent will be open each week\, serving up classic favorites to keep everyone fueled while they play\, relax\, and enjoy the atmosphere.\n \n\nWhat We’ll Feature: \n\n\n  🎁 Free giveaways throughout select events\n  🎉 Rotating inflatable attractions\n  👨‍👩‍👧‍👦 A family-friendly\, community-focused environment\n\n\n\nWhether it’s your first visit or your fifth\, each week offers a slightly different experience—so there’s always a reason to come back.
URL:https://marquesamusement.com/event/uptown-market-atlanta-2026-07-25/
LOCATION:The Lawn at Uptown\, 521 Market Street NE\, Atlanta\, 30324\, United States
CATEGORIES:Festivals & Markets
ATTACH;FMTTYPE=image/webp:https://marquesamusement.com/wp-content/uploads/2026/04/download.webp
END:VEVENT
END:VCALENDAR