BEGIN:VCALENDAR
VERSION:2.0
PRODID:-//The Marques Amusement Company - ECPv6.15.20//NONSGML v1.0//EN
CALSCALE:GREGORIAN
METHOD:PUBLISH
X-WR-CALNAME:The Marques Amusement Company
X-ORIGINAL-URL:https://marquesamusement.com
X-WR-CALDESC:Events for The Marques Amusement Company
REFRESH-INTERVAL;VALUE=DURATION:PT1H
X-Robots-Tag:noindex
X-PUBLISHED-TTL:PT1H
BEGIN:VTIMEZONE
TZID:America/New_York
BEGIN:DAYLIGHT
TZOFFSETFROM:-0500
TZOFFSETTO:-0400
TZNAME:EDT
DTSTART:20250309T070000
END:DAYLIGHT
BEGIN:STANDARD
TZOFFSETFROM:-0400
TZOFFSETTO:-0500
TZNAME:EST
DTSTART:20251102T060000
END:STANDARD
BEGIN:DAYLIGHT
TZOFFSETFROM:-0500
TZOFFSETTO:-0400
TZNAME:EDT
DTSTART:20260308T070000
END:DAYLIGHT
BEGIN:STANDARD
TZOFFSETFROM:-0400
TZOFFSETTO:-0500
TZNAME:EST
DTSTART:20261101T060000
END:STANDARD
BEGIN:DAYLIGHT
TZOFFSETFROM:-0500
TZOFFSETTO:-0400
TZNAME:EDT
DTSTART:20270314T070000
END:DAYLIGHT
BEGIN:STANDARD
TZOFFSETFROM:-0400
TZOFFSETTO:-0500
TZNAME:EST
DTSTART:20271107T060000
END:STANDARD
END:VTIMEZONE
BEGIN:VEVENT
DTSTART;TZID=America/New_York:20260606T120000
DTEND;TZID=America/New_York:20260606T160000
DTSTAMP:20260425T094159
CREATED:20260421T235430Z
LAST-MODIFIED:20260421T235430Z
UID:50893-1780747200-1780761600@marquesamusement.com
SUMMARY:Cliffdale Community Church Family Fun Day - June 6\, 2026
DESCRIPTION:Join us for an exciting day of faith\, fellowship\, and fun at the Cliffdale Community Church Family Fun Day! This special community event is designed to bring families together for a joyful experience filled with laughter\, connection\, and unforgettable memories. \n\nGuests can enjoy a variety of attractions including vibrant bounce houses and inflatables\, interactive games\, and a selection of delicious concessions like hot dogs\, popcorn\, cotton candy\, lemonade\, and more. Whether you’re coming to relax\, let the kids play\, or connect with others in the community\, there’s something here for everyone to enjoy. \n\nThis event is all about celebrating togetherness — a place where faith meets fun in a welcoming and family-friendly environment. Bring your family\, invite your friends\, and come be a part of a day filled with smiles\, energy\, and community spirit at Cliffdale Community Church!
URL:https://marquesamusement.com/event/cliffdale-community-church-family-fun-day-2026-06-06/
LOCATION:Cliffdale Community Church\, 7763 Cliffdale Rd\, Fayetteville\, NC\, Fayetteville\, NC\, 28314\, United States
CATEGORIES:Community Events
ATTACH;FMTTYPE=image/webp:https://marquesamusement.com/wp-content/uploads/2026/04/cliffdale-community-church-family-fun-day-event-atlanta.webp
END:VEVENT
END:VCALENDAR